BEGIN:VCALENDAR
VERSION:2.0
PRODID:-//wp-events-plugin.com//7.2.3.1//EN
BEGIN:VEVENT
UID:7@knightonandclarendonparkconservative.club
DTSTART;VALUE=DATE:20240427
DTEND;VALUE=DATE:20240428
DTSTAMP:20240403T101829Z
URL:https://knightonandclarendonparkconservative.club/events/carling-race-
 day/
SUMMARY:Carling Race Day
DESCRIPTION:\nCarling Race Day\nFree Entry to the Molson Coors Customer Are
 a (Kube)\n\nReceive a complimentary drink from Molson Coors and Leicester 
 Racecourse\n\n(drinks vouchers can only be redeemed up to 30 minutes befor
 e the advertised off time of the first race)\n\nBig Screen\n\nBar Faciliti
 es Payable\n\nAccess to the Racecourse\n\nDarts Challenge with Keith Delle
 r and Russ Bray\n\nPLEASE ENQUIRE AT THE BAR\n\n&nbsp\;\n\n&nbsp\;
CATEGORIES:Sports Days
END:VEVENT
END:VCALENDAR