BEGIN:VCALENDAR
VERSION:2.0
PRODID:-//wp-events-plugin.com//7.2.3.1//EN
BEGIN:VEVENT
UID:35@knightonandclarendonparkconservative.club
DTSTART:20240515T190000Z
DTEND:20240515T220000Z
DTSTAMP:20240418T083131Z
URL:https://knightonandclarendonparkconservative.club/events/curry-night/
SUMMARY:Curry Night
DESCRIPTION:The club is holding a curry night in the main room on the above
  date\, provided by our good friends\, Chilli Guys. They did the last curr
 y night and also supplied the vegetarian curry for our evening meal follow
 ing our coach trips. This will comprise of a two course meal:\n\n 	Starte
 rs: Vegetable Samosas\, Sheekh Kebab\, Salad and Raita\n 	Mains: Chicken C
 urry or/and Chickpea and Potato Curry (V)\n 	With: Rice and Naan\n 	Drink 
 included - Pint of Beer\, Glass of wine or soft drink.\n 	Cost £15 per me
 mber and £15 for the first guest.\n 	Subsequent guests £20 per head.\n\n
 We have sufficient room for 48 covers and once numbers are known\, tables
  will be booked and allocated by name.
CATEGORIES:Club News
END:VEVENT
END:VCALENDAR